BEGIN:VCALENDAR
VERSION:2.0
PRODID:-//Powder Horn Family Camping Resort - Old Orchard Beach Maine - ECPv6.15.20//NONSGML v1.0//EN
CALSCALE:GREGORIAN
METHOD:PUBLISH
X-ORIGINAL-URL:https://mainecampgrounds.com
X-WR-CALDESC:Events for Powder Horn Family Camping Resort - Old Orchard Beach Maine
REFRESH-INTERVAL;VALUE=DURATION:PT1H
X-Robots-Tag:noindex
X-PUBLISHED-TTL:PT1H
BEGIN:VTIMEZONE
TZID:America/New_York
BEGIN:DAYLIGHT
TZOFFSETFROM:-0500
TZOFFSETTO:-0400
TZNAME:EDT
DTSTART:20230312T070000
END:DAYLIGHT
BEGIN:STANDARD
TZOFFSETFROM:-0400
TZOFFSETTO:-0500
TZNAME:EST
DTSTART:20231105T060000
END:STANDARD
BEGIN:DAYLIGHT
TZOFFSETFROM:-0500
TZOFFSETTO:-0400
TZNAME:EDT
DTSTART:20240310T070000
END:DAYLIGHT
BEGIN:STANDARD
TZOFFSETFROM:-0400
TZOFFSETTO:-0500
TZNAME:EST
DTSTART:20241103T060000
END:STANDARD
BEGIN:DAYLIGHT
TZOFFSETFROM:-0500
TZOFFSETTO:-0400
TZNAME:EDT
DTSTART:20250309T070000
END:DAYLIGHT
BEGIN:STANDARD
TZOFFSETFROM:-0400
TZOFFSETTO:-0500
TZNAME:EST
DTSTART:20251102T060000
END:STANDARD
END:VTIMEZONE
BEGIN:VEVENT
DTSTART;TZID=America/New_York:20241013T120000
DTEND;TZID=America/New_York:20241013T150000
DTSTAMP:20260421T062114
CREATED:20230925T140928Z
LAST-MODIFIED:20250129T173008Z
UID:10000748-1728820800-1728831600@mainecampgrounds.com
SUMMARY:Harvest Fest Celebration
DESCRIPTION:Join us at the Activities Field from 12pm-3pm for a fun filled 2 hours! \nWe will have Pumpkin Painting and live music from Preston & Curry! \nDon’t miss the Petting Zoo with a Zebu and Pony Rides too! \nVisit Sharri for a delicious treat from The Maine Kitchen to end a wonderful fall day!
URL:https://mainecampgrounds.com/1event/harvest-fest-celebration-2/
LOCATION:Activities Field
ATTACH;FMTTYPE=image/jpeg:https://mainecampgrounds.com/wp-content/uploads/2023/09/Untitled-design-3.jpg
END:VEVENT
END:VCALENDAR