BEGIN:VCALENDAR
VERSION:2.0
PRODID:-//Powder Horn Family Camping Resort - Old Orchard Beach Maine - ECPv6.15.20//NONSGML v1.0//EN
CALSCALE:GREGORIAN
METHOD:PUBLISH
X-WR-CALNAME:Powder Horn Family Camping Resort - Old Orchard Beach Maine
X-ORIGINAL-URL:https://mainecampgrounds.com
X-WR-CALDESC:Events for Powder Horn Family Camping Resort - Old Orchard Beach Maine
REFRESH-INTERVAL;VALUE=DURATION:PT1H
X-Robots-Tag:noindex
X-PUBLISHED-TTL:PT1H
BEGIN:VTIMEZONE
TZID:America/New_York
BEGIN:DAYLIGHT
TZOFFSETFROM:-0500
TZOFFSETTO:-0400
TZNAME:EDT
DTSTART:20240310T070000
END:DAYLIGHT
BEGIN:STANDARD
TZOFFSETFROM:-0400
TZOFFSETTO:-0500
TZNAME:EST
DTSTART:20241103T060000
END:STANDARD
BEGIN:DAYLIGHT
TZOFFSETFROM:-0500
TZOFFSETTO:-0400
TZNAME:EDT
DTSTART:20250309T070000
END:DAYLIGHT
BEGIN:STANDARD
TZOFFSETFROM:-0400
TZOFFSETTO:-0500
TZNAME:EST
DTSTART:20251102T060000
END:STANDARD
BEGIN:DAYLIGHT
TZOFFSETFROM:-0500
TZOFFSETTO:-0400
TZNAME:EDT
DTSTART:20260308T070000
END:DAYLIGHT
BEGIN:STANDARD
TZOFFSETFROM:-0400
TZOFFSETTO:-0500
TZNAME:EST
DTSTART:20261101T060000
END:STANDARD
END:VTIMEZONE
BEGIN:VEVENT
DTSTART;VALUE=DATE:20250829
DTEND;VALUE=DATE:20250902
DTSTAMP:20260420T062646
CREATED:20250411T170255Z
LAST-MODIFIED:20250411T170255Z
UID:10001466-1756425600-1756771199@mainecampgrounds.com
SUMMARY:Labor Day Weekend
DESCRIPTION:
URL:https://mainecampgrounds.com/1event/labor-day-weekend-2/
ATTACH;FMTTYPE=image/jpeg:https://mainecampgrounds.com/wp-content/uploads/2023/09/Untitled-design-11.jpg
END:VEVENT
BEGIN:VEVENT
DTSTART;TZID=America/New_York:20250912T080000
DTEND;TZID=America/New_York:20251013T170000
DTSTAMP:20260420T062646
CREATED:20250907T000214Z
LAST-MODIFIED:20251003T170400Z
UID:10001479-1757664000-1760374800@mainecampgrounds.com
SUMMARY:Spooky Golf
DESCRIPTION:
URL:https://mainecampgrounds.com/1event/spooky-golf/
LOCATION:Mini Golf Course
ATTACH;FMTTYPE=image/jpeg:https://mainecampgrounds.com/wp-content/uploads/LR-IMG_2564--scaled.jpg
END:VEVENT
END:VCALENDAR